BEGIN:VCALENDAR
VERSION:2.0
PRODID:-//Fernie Skating Club - ECPv6.1.2.2//NONSGML v1.0//EN
CALSCALE:GREGORIAN
METHOD:PUBLISH
X-ORIGINAL-URL:https://fernieskatingclub.com
X-WR-CALDESC:Events for Fernie Skating Club
REFRESH-INTERVAL;VALUE=DURATION:PT1H
X-Robots-Tag:noindex
X-PUBLISHED-TTL:PT1H
BEGIN:VTIMEZONE
TZID:America/Edmonton
BEGIN:DAYLIGHT
TZOFFSETFROM:-0700
TZOFFSETTO:-0600
TZNAME:MDT
DTSTART:20160313T090000
END:DAYLIGHT
BEGIN:STANDARD
TZOFFSETFROM:-0600
TZOFFSETTO:-0700
TZNAME:MST
DTSTART:20161106T080000
END:STANDARD
BEGIN:DAYLIGHT
TZOFFSETFROM:-0700
TZOFFSETTO:-0600
TZNAME:MDT
DTSTART:20170312T090000
END:DAYLIGHT
BEGIN:STANDARD
TZOFFSETFROM:-0600
TZOFFSETTO:-0700
TZNAME:MST
DTSTART:20171105T080000
END:STANDARD
BEGIN:DAYLIGHT
TZOFFSETFROM:-0700
TZOFFSETTO:-0600
TZNAME:MDT
DTSTART:20180311T090000
END:DAYLIGHT
BEGIN:STANDARD
TZOFFSETFROM:-0600
TZOFFSETTO:-0700
TZNAME:MST
DTSTART:20181104T080000
END:STANDARD
BEGIN:DAYLIGHT
TZOFFSETFROM:-0700
TZOFFSETTO:-0600
TZNAME:MDT
DTSTART:20190310T090000
END:DAYLIGHT
BEGIN:STANDARD
TZOFFSETFROM:-0600
TZOFFSETTO:-0700
TZNAME:MST
DTSTART:20191103T080000
END:STANDARD
END:VTIMEZONE
BEGIN:VEVENT
DTSTART;VALUE=DATE:20190215
DTEND;VALUE=DATE:20190217
DTSTAMP:20260420T050819
CREATED:20180901T233745Z
LAST-MODIFIED:20180901T233745Z
UID:682-1550188800-1550361599@fernieskatingclub.com
SUMMARY:Fernie Skating Club Ice Show
DESCRIPTION:
URL:https://fernieskatingclub.com/event/fernie-skating-club-ice-show/
CATEGORIES:Carnival
END:VEVENT
BEGIN:VEVENT
DTSTART;VALUE=DATE:20170217
DTEND;VALUE=DATE:20170219
DTSTAMP:20260420T050819
CREATED:20160825T195725Z
LAST-MODIFIED:20170201T144103Z
UID:308-1487289600-1487462399@fernieskatingclub.com
SUMMARY:2017 Fernie Skating Carnival
DESCRIPTION:
URL:https://fernieskatingclub.com/event/2017-fernie-skating-carnival/
CATEGORIES:Carnival
ATTACH;FMTTYPE=image/jpeg:https://fernieskatingclub.com/wp-content/uploads/2017/02/carnivalposter2017.jpg
END:VEVENT
BEGIN:VEVENT
DTSTART;TZID=America/Edmonton:20170216T160000
DTEND;TZID=America/Edmonton:20170216T181500
DTSTAMP:20260420T050819
CREATED:20160828T175359Z
LAST-MODIFIED:20160828T175359Z
UID:348-1487260800-1487268900@fernieskatingclub.com
SUMMARY:Dress Rehearsal
DESCRIPTION:
URL:https://fernieskatingclub.com/event/dress-rehearsal/
CATEGORIES:Carnival
END:VEVENT
BEGIN:VEVENT
DTSTART;TZID=America/Edmonton:20161215T154500
DTEND;TZID=America/Edmonton:20161215T181500
DTSTAMP:20260420T050819
CREATED:20161213T142103Z
LAST-MODIFIED:20161213T143525Z
UID:466-1481816700-1481825700@fernieskatingclub.com
SUMMARY:Christmas Santa Skate and Skater Presentation
DESCRIPTION:Join the Fernie Skating Club for a Christmas Santa Skate and Skater Presentation on December 15th. \nEntry by donation to Friends of Friends. \nCanskate/Family Santa Skate\n3:45-4:30pm \nwith Santa and the Fernie Ghostriders \nFigure Skating Presentation\n4:45-6:15pm \nSpecial Performance with the Fernie Ghostriders \n& \nFun Team Element Competition featuring combined teams of Senior and Junior skaters and Ghostriders
URL:https://fernieskatingclub.com/event/christmas-santa-skate-and-skater-presentation/
LOCATION:Fernie Memorial Arena\, 991 6th Ave\, Fernie\, British Columbia\, V0B 1M0\, Canada
CATEGORIES:Carnival
ATTACH;FMTTYPE=image/jpeg:https://fernieskatingclub.com/wp-content/uploads/2016/12/skating-club-poster.jpg
END:VEVENT
END:VCALENDAR