BEGIN:VCALENDAR
VERSION:2.0
PRODID:-//Fernie Skating Club - ECPv6.1.2.2//NONSGML v1.0//EN
CALSCALE:GREGORIAN
METHOD:PUBLISH
X-ORIGINAL-URL:https://fernieskatingclub.com
X-WR-CALDESC:Events for Fernie Skating Club
REFRESH-INTERVAL;VALUE=DURATION:PT1H
X-Robots-Tag:noindex
X-PUBLISHED-TTL:PT1H
BEGIN:VTIMEZONE
TZID:America/Edmonton
BEGIN:DAYLIGHT
TZOFFSETFROM:-0700
TZOFFSETTO:-0600
TZNAME:MDT
DTSTART:20160313T090000
END:DAYLIGHT
BEGIN:STANDARD
TZOFFSETFROM:-0600
TZOFFSETTO:-0700
TZNAME:MST
DTSTART:20161106T080000
END:STANDARD
END:VTIMEZONE
BEGIN:VEVENT
DTSTART;VALUE=DATE:20161202
DTEND;VALUE=DATE:20161205
DTSTAMP:20260420T102619
CREATED:20161004T135214Z
LAST-MODIFIED:20161004T135214Z
UID:420-1480636800-1480895999@fernieskatingclub.com
SUMMARY:East Kootenay Invitational
DESCRIPTION:Memorial Arena\n1432 – 2nd St. North\nCranbrook\, BC\nEKI Registration Form
URL:https://fernieskatingclub.com/event/east-kootenay-invitational/
LOCATION:Cranbrook\, Cranbrook\, British Columbia\, Canada
CATEGORIES:Competition
END:VEVENT
BEGIN:VEVENT
DTSTART;VALUE=DATE:20161110
DTEND;VALUE=DATE:20161114
DTSTAMP:20260420T102619
CREATED:20160826T142459Z
LAST-MODIFIED:20160826T142459Z
UID:313-1478736000-1479081599@fernieskatingclub.com
SUMMARY:BC & AB Sectional Competition
DESCRIPTION:
URL:https://fernieskatingclub.com/event/bc-ab-sectional-competition/
LOCATION:British Columbia
CATEGORIES:Competition
END:VEVENT
BEGIN:VEVENT
DTSTART;VALUE=DATE:20161021
DTEND;VALUE=DATE:20161024
DTSTAMP:20260420T102619
CREATED:20160825T195415Z
LAST-MODIFIED:20160825T195415Z
UID:302-1477008000-1477267199@fernieskatingclub.com
SUMMARY:Autumn Leaves Competition
DESCRIPTION:
URL:https://fernieskatingclub.com/event/autumn-leaves-competition/
LOCATION:Kamloops\, Kamloops\, British Columbia\, Canada
CATEGORIES:Competition
END:VEVENT
BEGIN:VEVENT
DTSTART;VALUE=DATE:20160923
DTEND;VALUE=DATE:20160926
DTSTAMP:20260420T102619
CREATED:20160825T193441Z
LAST-MODIFIED:20160825T194331Z
UID:281-1474588800-1474847999@fernieskatingclub.com
SUMMARY:Canmore Invitational Competition
DESCRIPTION:
URL:https://fernieskatingclub.com/event/canmore-invitational-competition/
LOCATION:Canmore\, Canmore\, British Columbia\, Canada
CATEGORIES:Competition
END:VEVENT
END:VCALENDAR