BEGIN:VCALENDAR
VERSION:2.0
PRODID:-//Fernie Skating Club - ECPv6.1.2.2//NONSGML v1.0//EN
CALSCALE:GREGORIAN
METHOD:PUBLISH
X-ORIGINAL-URL:https://fernieskatingclub.com
X-WR-CALDESC:Events for Fernie Skating Club
REFRESH-INTERVAL;VALUE=DURATION:PT1H
X-Robots-Tag:noindex
X-PUBLISHED-TTL:PT1H
BEGIN:VTIMEZONE
TZID:America/Edmonton
BEGIN:DAYLIGHT
TZOFFSETFROM:-0700
TZOFFSETTO:-0600
TZNAME:MDT
DTSTART:20160313T090000
END:DAYLIGHT
BEGIN:STANDARD
TZOFFSETFROM:-0600
TZOFFSETTO:-0700
TZNAME:MST
DTSTART:20161106T080000
END:STANDARD
BEGIN:DAYLIGHT
TZOFFSETFROM:-0700
TZOFFSETTO:-0600
TZNAME:MDT
DTSTART:20170312T090000
END:DAYLIGHT
BEGIN:STANDARD
TZOFFSETFROM:-0600
TZOFFSETTO:-0700
TZNAME:MST
DTSTART:20171105T080000
END:STANDARD
END:VTIMEZONE
BEGIN:VEVENT
DTSTART;VALUE=DATE:20170320
DTEND;VALUE=DATE:20170401
DTSTAMP:20260420T051205
CREATED:20160828T175903Z
LAST-MODIFIED:20160828T175903Z
UID:364-1489968000-1491004799@fernieskatingclub.com
SUMMARY:Spring Break
DESCRIPTION:
URL:https://fernieskatingclub.com/event/spring-break/
CATEGORIES:NI Day
END:VEVENT
BEGIN:VEVENT
DTSTART;VALUE=DATE:20170224
DTEND;VALUE=DATE:20170225
DTSTAMP:20260420T051205
CREATED:20160828T175506Z
LAST-MODIFIED:20160828T175506Z
UID:352-1487894400-1487980799@fernieskatingclub.com
SUMMARY:NI Friday
DESCRIPTION:
URL:https://fernieskatingclub.com/event/ni-friday-2/
CATEGORIES:NI Day
END:VEVENT
BEGIN:VEVENT
DTSTART;VALUE=DATE:20161125
DTEND;VALUE=DATE:20161126
DTSTAMP:20260420T051205
CREATED:20160826T142625Z
LAST-MODIFIED:20160826T142625Z
UID:319-1480032000-1480118399@fernieskatingclub.com
SUMMARY:NI Friday
DESCRIPTION:
URL:https://fernieskatingclub.com/event/ni-friday/
CATEGORIES:NI Day
END:VEVENT
BEGIN:VEVENT
DTSTART;VALUE=DATE:20161021
DTEND;VALUE=DATE:20161022
DTSTAMP:20260420T051205
CREATED:20160825T195515Z
LAST-MODIFIED:20160826T013623Z
UID:306-1477008000-1477094399@fernieskatingclub.com
SUMMARY:Non Instructional Day - Regular Ice
DESCRIPTION:
URL:https://fernieskatingclub.com/event/no-ice-friday-3/
CATEGORIES:NI Day
END:VEVENT
BEGIN:VEVENT
DTSTART;VALUE=DATE:20161007
DTEND;VALUE=DATE:20161008
DTSTAMP:20260420T051205
CREATED:20160825T194143Z
LAST-MODIFIED:20160826T013911Z
UID:295-1475798400-1475884799@fernieskatingclub.com
SUMMARY:NI Friday
DESCRIPTION:
URL:https://fernieskatingclub.com/event/no-ice-friday-2/
CATEGORIES:NI Day
END:VEVENT
BEGIN:VEVENT
DTSTART;VALUE=DATE:20160923
DTEND;VALUE=DATE:20160924
DTSTAMP:20260420T051205
CREATED:20160825T193514Z
LAST-MODIFIED:20160826T013925Z
UID:285-1474588800-1474675199@fernieskatingclub.com
SUMMARY:NI Friday
DESCRIPTION:
URL:https://fernieskatingclub.com/event/no-ice-friday/
CATEGORIES:NI Day
END:VEVENT
END:VCALENDAR