BEGIN:VCALENDAR
VERSION:2.0
PRODID:-//Fernie Skating Club - ECPv6.1.2.2//NONSGML v1.0//EN
CALSCALE:GREGORIAN
METHOD:PUBLISH
X-ORIGINAL-URL:https://fernieskatingclub.com
X-WR-CALDESC:Events for Fernie Skating Club
REFRESH-INTERVAL;VALUE=DURATION:PT1H
X-Robots-Tag:noindex
X-PUBLISHED-TTL:PT1H
BEGIN:VTIMEZONE
TZID:America/Edmonton
BEGIN:DAYLIGHT
TZOFFSETFROM:-0700
TZOFFSETTO:-0600
TZNAME:MDT
DTSTART:20160313T090000
END:DAYLIGHT
BEGIN:STANDARD
TZOFFSETFROM:-0600
TZOFFSETTO:-0700
TZNAME:MST
DTSTART:20161106T080000
END:STANDARD
BEGIN:DAYLIGHT
TZOFFSETFROM:-0700
TZOFFSETTO:-0600
TZNAME:MDT
DTSTART:20170312T090000
END:DAYLIGHT
BEGIN:STANDARD
TZOFFSETFROM:-0600
TZOFFSETTO:-0700
TZNAME:MST
DTSTART:20171105T080000
END:STANDARD
END:VTIMEZONE
BEGIN:VEVENT
DTSTART;TZID=America/Edmonton:20170105T161500
DTEND;TZID=America/Edmonton:20170105T184500
DTSTAMP:20260420T052224
CREATED:20170103T225838Z
LAST-MODIFIED:20170103T225838Z
UID:480-1483632900-1483641900@fernieskatingclub.com
SUMMARY:Holiday Ice Schedule
DESCRIPTION:4:15-5:00 Junior Freeskate \n5:00-5:30 Open Skills/Dance \n5:30-5:45 Flood \n5:45-6:45 Senior Freeskate
URL:https://fernieskatingclub.com/event/holiday-ice-schedule/
CATEGORIES:Regular Ice
END:VEVENT
BEGIN:VEVENT
DTSTART;TZID=America/Edmonton:20170103T161500
DTEND;TZID=America/Edmonton:20170103T184500
DTSTAMP:20260420T052224
CREATED:20170103T225801Z
LAST-MODIFIED:20170103T225801Z
UID:478-1483460100-1483469100@fernieskatingclub.com
SUMMARY:Holiday Ice
DESCRIPTION:4:15-5:00 Junior Freeskate \n5:00-5:30 Open Skills/Dance \n5:30-5:45 Flood \n5:45-6:45 Senior Freeskate
URL:https://fernieskatingclub.com/event/holiday-ice/
CATEGORIES:Regular Ice
END:VEVENT
BEGIN:VEVENT
DTSTART;TZID=America/Edmonton:20170102T161500
DTEND;TZID=America/Edmonton:20170102T184500
DTSTAMP:20260420T052224
CREATED:20170103T225906Z
LAST-MODIFIED:20170103T225906Z
UID:482-1483373700-1483382700@fernieskatingclub.com
SUMMARY:Holiday Ice Schedule
DESCRIPTION:4:15-5:00 Junior Freeskate \n5:00-5:30 Open Skills/Dance \n5:30-5:45 Flood \n5:45-6:45 Senior Freeskate
URL:https://fernieskatingclub.com/event/holiday-ice-schedule-2/
CATEGORIES:Regular Ice
END:VEVENT
BEGIN:VEVENT
DTSTART;VALUE=DATE:20161111
DTEND;VALUE=DATE:20161112
DTSTAMP:20260420T052224
CREATED:20160826T142608Z
LAST-MODIFIED:20160826T142608Z
UID:317-1478822400-1478908799@fernieskatingclub.com
SUMMARY:Stat: Morning Ice Scheduled\, Sparwood Afternoon Cancelled
DESCRIPTION:
URL:https://fernieskatingclub.com/event/stat-morning-ice-scheduled-sparwood-afternoon-cancelled/
CATEGORIES:Regular Ice
END:VEVENT
BEGIN:VEVENT
DTSTART;VALUE=DATE:20161010
DTEND;VALUE=DATE:20161011
DTSTAMP:20260420T052224
CREATED:20160825T195258Z
LAST-MODIFIED:20160825T195258Z
UID:300-1476057600-1476143999@fernieskatingclub.com
SUMMARY:Regular Skating Schedule
DESCRIPTION:
URL:https://fernieskatingclub.com/event/regular-skating-schedule/
CATEGORIES:Regular Ice
END:VEVENT
END:VCALENDAR