BEGIN:VCALENDAR
VERSION:2.0
PRODID:-//Fernie Skating Club - ECPv6.1.2.2//NONSGML v1.0//EN
CALSCALE:GREGORIAN
METHOD:PUBLISH
X-ORIGINAL-URL:https://fernieskatingclub.com
X-WR-CALDESC:Events for Fernie Skating Club
REFRESH-INTERVAL;VALUE=DURATION:PT1H
X-Robots-Tag:noindex
X-PUBLISHED-TTL:PT1H
BEGIN:VTIMEZONE
TZID:America/Edmonton
BEGIN:DAYLIGHT
TZOFFSETFROM:-0700
TZOFFSETTO:-0600
TZNAME:MDT
DTSTART:20160313T090000
END:DAYLIGHT
BEGIN:STANDARD
TZOFFSETFROM:-0600
TZOFFSETTO:-0700
TZNAME:MST
DTSTART:20161106T080000
END:STANDARD
BEGIN:DAYLIGHT
TZOFFSETFROM:-0700
TZOFFSETTO:-0600
TZNAME:MDT
DTSTART:20170312T090000
END:DAYLIGHT
BEGIN:STANDARD
TZOFFSETFROM:-0600
TZOFFSETTO:-0700
TZNAME:MST
DTSTART:20171105T080000
END:STANDARD
END:VTIMEZONE
BEGIN:VEVENT
DTSTART;VALUE=DATE:20170224
DTEND;VALUE=DATE:20170225
DTSTAMP:20260420T050434
CREATED:20160828T175547Z
LAST-MODIFIED:20160828T175601Z
UID:354-1487894400-1487980799@fernieskatingclub.com
SUMMARY:Super Series Simulation
DESCRIPTION:Time and Location TBA
URL:https://fernieskatingclub.com/event/super-series-simulation/
LOCATION:British Columbia
CATEGORIES:Simulation
END:VEVENT
BEGIN:VEVENT
DTSTART;TZID=America/Edmonton:20170128T083000
DTEND;TZID=America/Edmonton:20170128T113000
DTSTAMP:20260420T050434
CREATED:20170103T225447Z
LAST-MODIFIED:20170103T225447Z
UID:476-1485592200-1485603000@fernieskatingclub.com
SUMMARY:Simulation Day
DESCRIPTION:Fernie Memorial Arena \n0930 to 1130
URL:https://fernieskatingclub.com/event/simulation-day/
LOCATION:Fernie Memorial Arena\, 991 6th Ave\, Fernie\, British Columbia\, V0B 1M0\, Canada
CATEGORIES:Simulation
END:VEVENT
BEGIN:VEVENT
DTSTART;TZID=America/Edmonton:20161008T080000
DTEND;TZID=America/Edmonton:20161008T170000
DTSTAMP:20260420T050434
CREATED:20160825T194258Z
LAST-MODIFIED:20160825T194258Z
UID:297-1475913600-1475946000@fernieskatingclub.com
SUMMARY:Simulation - Autumn Leaves
DESCRIPTION:Tentative Schedule
URL:https://fernieskatingclub.com/event/simulation-autumn-leaves/
LOCATION:Fernie Memorial Arena\, 991 6th Ave\, Fernie\, British Columbia\, V0B 1M0\, Canada
CATEGORIES:Simulation
END:VEVENT
BEGIN:VEVENT
DTSTART;TZID=America/Edmonton:20160917T100000
DTEND;TZID=America/Edmonton:20160917T110000
DTSTAMP:20260420T050434
CREATED:20160825T193328Z
LAST-MODIFIED:20160825T193328Z
UID:277-1474106400-1474110000@fernieskatingclub.com
SUMMARY:Simulations
DESCRIPTION:Tentative Schedule
URL:https://fernieskatingclub.com/event/simulations/
LOCATION:Fernie Memorial Arena\, 991 6th Ave\, Fernie\, British Columbia\, V0B 1M0\, Canada
CATEGORIES:Simulation
END:VEVENT
END:VCALENDAR