BEGIN:VCALENDAR
VERSION:2.0
PRODID:-//Fernie Skating Club - ECPv6.1.2.2//NONSGML v1.0//EN
CALSCALE:GREGORIAN
METHOD:PUBLISH
X-WR-CALNAME:Fernie Skating Club
X-ORIGINAL-URL:https://fernieskatingclub.com
X-WR-CALDESC:Events for Fernie Skating Club
REFRESH-INTERVAL;VALUE=DURATION:PT1H
X-Robots-Tag:noindex
X-PUBLISHED-TTL:PT1H
BEGIN:VTIMEZONE
TZID:America/Edmonton
BEGIN:DAYLIGHT
TZOFFSETFROM:-0700
TZOFFSETTO:-0600
TZNAME:MDT
DTSTART:20160313T090000
END:DAYLIGHT
BEGIN:STANDARD
TZOFFSETFROM:-0600
TZOFFSETTO:-0700
TZNAME:MST
DTSTART:20161106T080000
END:STANDARD
END:VTIMEZONE
BEGIN:VEVENT
DTSTART;TZID=America/Edmonton:20161004T154500
DTEND;TZID=America/Edmonton:20161004T163000
DTSTAMP:20260419T145431
CREATED:20160825T194125Z
LAST-MODIFIED:20160825T194125Z
UID:293-1475595900-1475598600@fernieskatingclub.com
SUMMARY:Can Skate Program Starts
DESCRIPTION:
URL:https://fernieskatingclub.com/event/can-skate-program-starts/
LOCATION:Fernie Memorial Arena\, 991 6th Ave\, Fernie\, British Columbia\, V0B 1M0\, Canada
CATEGORIES:Season Start/End
END:VEVENT
BEGIN:VEVENT
DTSTART;TZID=America/Edmonton:20160930T154500
DTEND;TZID=America/Edmonton:20160930T171500
DTSTAMP:20260419T145431
CREATED:20160825T193551Z
LAST-MODIFIED:20160825T193551Z
UID:287-1475250300-1475255700@fernieskatingclub.com
SUMMARY:Sparwood Friday Ice Begins
DESCRIPTION:
URL:https://fernieskatingclub.com/event/sparwood-friday-ice-begins/
LOCATION:British Columbia
CATEGORIES:Season Start/End
END:VEVENT
BEGIN:VEVENT
DTSTART;TZID=America/Edmonton:20160929T154500
DTEND;TZID=America/Edmonton:20160929T163000
DTSTAMP:20260419T145431
CREATED:20160825T193241Z
LAST-MODIFIED:20160825T193241Z
UID:275-1475163900-1475166600@fernieskatingclub.com
SUMMARY:PA Training
DESCRIPTION:Two Sessions \nSeptember 27 \n6:15-7:15pm Off Ice \nSeptember 29 \n3:45-4:30pm On Ice
URL:https://fernieskatingclub.com/event/pa-training-2/
LOCATION:British Columbia
CATEGORIES:Training
END:VEVENT
BEGIN:VEVENT
DTSTART;TZID=America/Edmonton:20160927T181500
DTEND;TZID=America/Edmonton:20160927T191500
DTSTAMP:20260419T145431
CREATED:20160825T193207Z
LAST-MODIFIED:20160825T193207Z
UID:273-1475000100-1475003700@fernieskatingclub.com
SUMMARY:PA Training
DESCRIPTION:Two Sessions \nSeptember 27 \n6:15-7:15pm Off Ice \nSeptember 29 \n3:45-4:30pm On Ice
URL:https://fernieskatingclub.com/event/pa-training/
LOCATION:British Columbia
CATEGORIES:Training
END:VEVENT
BEGIN:VEVENT
DTSTART;VALUE=DATE:20160923
DTEND;VALUE=DATE:20160926
DTSTAMP:20260419T145431
CREATED:20160825T193441Z
LAST-MODIFIED:20160825T194331Z
UID:281-1474588800-1474847999@fernieskatingclub.com
SUMMARY:Canmore Invitational Competition
DESCRIPTION:
URL:https://fernieskatingclub.com/event/canmore-invitational-competition/
LOCATION:Canmore\, Canmore\, British Columbia\, Canada
CATEGORIES:Competition
END:VEVENT
BEGIN:VEVENT
DTSTART;VALUE=DATE:20160923
DTEND;VALUE=DATE:20160924
DTSTAMP:20260419T145431
CREATED:20160825T193514Z
LAST-MODIFIED:20160826T013925Z
UID:285-1474588800-1474675199@fernieskatingclub.com
SUMMARY:NI Friday
DESCRIPTION:
URL:https://fernieskatingclub.com/event/no-ice-friday/
LOCATION:British Columbia
CATEGORIES:NI Day
END:VEVENT
BEGIN:VEVENT
DTSTART;TZID=America/Edmonton:20160917T100000
DTEND;TZID=America/Edmonton:20160917T110000
DTSTAMP:20260419T145431
CREATED:20160825T193328Z
LAST-MODIFIED:20160825T193328Z
UID:277-1474106400-1474110000@fernieskatingclub.com
SUMMARY:Simulations
DESCRIPTION:Tentative Schedule
URL:https://fernieskatingclub.com/event/simulations/
LOCATION:Fernie Memorial Arena\, 991 6th Ave\, Fernie\, British Columbia\, V0B 1M0\, Canada
CATEGORIES:Simulation
END:VEVENT
BEGIN:VEVENT
DTSTART;VALUE=DATE:20160912
DTEND;VALUE=DATE:20160913
DTSTAMP:20260419T145431
CREATED:20160825T193042Z
LAST-MODIFIED:20160825T193042Z
UID:271-1473638400-1473724799@fernieskatingclub.com
SUMMARY:Star Skate Winter Season Begins
DESCRIPTION:
URL:https://fernieskatingclub.com/event/star-skate-winter-season-begins/
LOCATION:British Columbia
CATEGORIES:Season Start/End
END:VEVENT
BEGIN:VEVENT
DTSTART;VALUE=DATE:20160909
DTEND;VALUE=DATE:20160912
DTSTAMP:20260419T145431
CREATED:20160825T193007Z
LAST-MODIFIED:20160825T193007Z
UID:267-1473379200-1473638399@fernieskatingclub.com
SUMMARY:CanSkate Training Clinic - Kimberley
DESCRIPTION:
URL:https://fernieskatingclub.com/event/canskate-training-clinic-kimberley/
LOCATION:Kimberley\, Kimberley\, British Columbia\, Canada
CATEGORIES:Training
END:VEVENT
BEGIN:VEVENT
DTSTART;TZID=America/Edmonton:20160908T180000
DTEND;TZID=America/Edmonton:20160908T203000
DTSTAMP:20260419T145431
CREATED:20160825T192814Z
LAST-MODIFIED:20160825T192814Z
UID:263-1473357600-1473366600@fernieskatingclub.com
SUMMARY:Fall Registration Fair
DESCRIPTION:Fall Registration Fair \nWednesday & Thursday \nSeptember 7 & 8 \n6:00-8:30pm
URL:https://fernieskatingclub.com/event/fall-registration-fair-2/
LOCATION:Fernie Community Centre\, 901 6th Ave\, Fernie\, British Columbia\, Canada
CATEGORIES:Registration Day
END:VEVENT
BEGIN:VEVENT
DTSTART;TZID=America/Edmonton:20160907T180000
DTEND;TZID=America/Edmonton:20160907T203000
DTSTAMP:20260419T145431
CREATED:20160825T190306Z
LAST-MODIFIED:20160825T190306Z
UID:257-1473271200-1473280200@fernieskatingclub.com
SUMMARY:Fall Registration Fair
DESCRIPTION:
URL:https://fernieskatingclub.com/event/fall-registration-fair/
LOCATION:Fernie Community Centre\, 901 6th Ave\, Fernie\, British Columbia\, Canada
CATEGORIES:Registration Day
ATTACH;FMTTYPE=image/jpeg:https://fernieskatingclub.com/wp-content/uploads/2016/03/new-skates.jpg
END:VEVENT
BEGIN:VEVENT
DTSTART;VALUE=DATE:20160906
DTEND;VALUE=DATE:20160910
DTSTAMP:20260419T145431
CREATED:20160825T192907Z
LAST-MODIFIED:20160825T192907Z
UID:265-1473120000-1473465599@fernieskatingclub.com
SUMMARY:Fall Skating Camp
DESCRIPTION:
URL:https://fernieskatingclub.com/event/fall-skating-camp/
LOCATION:Fernie Memorial Arena\, 991 6th Ave\, Fernie\, British Columbia\, V0B 1M0\, Canada
CATEGORIES:Season Start/End
END:VEVENT
BEGIN:VEVENT
DTSTART;VALUE=DATE:20160901
DTEND;VALUE=DATE:20160902
DTSTAMP:20260419T145431
CREATED:20160825T193358Z
LAST-MODIFIED:20160825T193358Z
UID:279-1472688000-1472774399@fernieskatingclub.com
SUMMARY:Fall Camp Registration Deadline
DESCRIPTION:
URL:https://fernieskatingclub.com/event/fall-camp-registration-deadline/
LOCATION:British Columbia
CATEGORIES:Registration Day
END:VEVENT
END:VCALENDAR